BEGIN:VCALENDAR
VERSION:2.0
PRODID:icalendar-ruby
CALSCALE:GREGORIAN
METHOD:PUBLISH
BEGIN:VEVENT
DTSTAMP:20260419T130312Z
UID:10-387169@chadbournumc.org
DTSTART;VALUE=DATE:20260419
DTEND;VALUE=DATE:20260419
CLASS:PUBLIC
CREATED:20260408T220536
DESCRIPTION:By popular demand…\nThe Hymn Sing Choir will be back at Chadb
 ourn UMC on Sunday\, April 19 at 4:00 PM. \nPlease mark your calendar and
  spread the word!
LAST-MODIFIED:20260408T220536
LOCATION:
SUMMARY:Hymn Singer Concert 4 PM
URL;VALUE=URI:https://chadbournumc.org/events/hymn-singer-concert-4-pm/2026
 -04-19
ATTACH;FILENAME=Hymn-Singers-4.jpg;FMTTYPE=image/jpeg:https://dq5pwpg1q8ru0
 .cloudfront.net/2026/04/09/01/27/13/8a72a1d1-1332-466f-8c54-50798e9d6f94/H
 ymn-Singers-4.jpg
END:VEVENT
END:VCALENDAR
