BEGIN:VCALENDAR
VERSION:2.0
PRODID:icalendar-ruby
CALSCALE:GREGORIAN
METHOD:PUBLISH
BEGIN:VEVENT
DTSTAMP:20260419T213602Z
UID:9-405051@chadbournumc.org
DTSTART:20261020T140000Z
DTEND:20261020T150000Z
CLASS:PUBLIC
CREATED:20260419T170545
DESCRIPTION:Please join us in the Hallsboro UMC Fellowship Hall each Tuesda
 y at 10 AM for Pastor Mark's sermon series &amp\; bible study.
LAST-MODIFIED:20260419T170545
LOCATION:Hallsboro United Methodist Church
SUMMARY:Sermon Series & Bible Study
URL;VALUE=URI:https://chadbournumc.org/events/sermon-series-bible-study/202
 6-10-20
ATTACH;FILENAME=SiOq.jpg;FMTTYPE=image/jpeg:https://dq5pwpg1q8ru0.cloudfron
 t.net/2026/02/21/16/47/51/6c46008f-495d-43aa-bf7b-2c9104ce4fa3/SiOq.jpg
END:VEVENT
END:VCALENDAR
