BEGIN:VCALENDAR
VERSION:2.0
PRODID:icalendar-ruby
CALSCALE:GREGORIAN
METHOD:PUBLISH
BEGIN:VEVENT
DTSTAMP:20260420T045551Z
UID:9-405617@chadbournumc.org
DTSTART:20261117T150000Z
DTEND:20261117T160000Z
CLASS:PUBLIC
CREATED:20260420T002422
DESCRIPTION:Please join us in the Hallsboro UMC Fellowship Hall each Tuesda
 y at 10 AM for Pastor Mark's sermon series &amp\; bible study.
LAST-MODIFIED:20260420T002422
LOCATION:Hallsboro United Methodist Church
SUMMARY:Sermon Series & Bible Study
URL;VALUE=URI:https://chadbournumc.org/events/sermon-series-bible-study/202
 6-11-17
ATTACH;FILENAME=SiOq.jpg;FMTTYPE=image/jpeg:https://dq5pwpg1q8ru0.cloudfron
 t.net/2026/02/21/16/47/51/6c46008f-495d-43aa-bf7b-2c9104ce4fa3/SiOq.jpg
END:VEVENT
END:VCALENDAR
